Package: ISLET Version: 1.13.0 Command: /Library/Frameworks/R.framework/Resources/bin/R CMD build --keep-empty-dirs --no-resave-data ISLET StartedAt: 2025-11-14 16:45:24 -0500 (Fri, 14 Nov 2025) EndedAt: 2025-11-14 16:46:38 -0500 (Fri, 14 Nov 2025) EllapsedTime: 73.9 seconds RetCode: 0 Status: OK PackageFile: ISLET_1.13.0.tar.gz PackageFileSize: 2.185 MiB