Package: ISAnalytics Version: 1.21.0 Command: /home/biocbuild/bbs-3.23-bioc/R/bin/R CMD build --keep-empty-dirs --no-resave-data ISAnalytics StartedAt: 2025-11-13 18:14:00 -0500 (Thu, 13 Nov 2025) EndedAt: 2025-11-13 18:16:04 -0500 (Thu, 13 Nov 2025) EllapsedTime: 124.2 seconds RetCode: 0 Status: OK PackageFile: ISAnalytics_1.21.0.tar.gz PackageFileSize: 8.769 MiB