Package: ISAnalytics Version: 1.21.0 Command: /Library/Frameworks/R.framework/Resources/bin/R CMD INSTALL ISAnalytics StartedAt: 2025-11-13 15:05:14 -0500 (Thu, 13 Nov 2025) EndedAt: 2025-11-13 15:05:24 -0500 (Thu, 13 Nov 2025) EllapsedTime: 9.9 seconds RetCode: 0 Status: OK