Package: ISAnalytics Version: 1.21.0 Command: /Library/Frameworks/R.framework/Resources/bin/R CMD build --keep-empty-dirs --no-resave-data ISAnalytics StartedAt: 2025-11-13 16:47:41 -0500 (Thu, 13 Nov 2025) EndedAt: 2025-11-13 16:48:45 -0500 (Thu, 13 Nov 2025) EllapsedTime: 64.7 seconds RetCode: 0 Status: OK PackageFile: ISAnalytics_1.21.0.tar.gz PackageFileSize: 8.828 MiB