Package: ISAnalytics Version: 1.21.0 Maintainer: Francesco Gazzo MaintainerEmail: gazzo.francesco at hsr.it git_url: https://git.bioconductor.org/packages/ISAnalytics git_branch: devel git_last_commit: e37fd79 git_last_commit_date: 2025-10-29 11:01:52 -0500 (Wed, 29 Oct 2025)