Package: IRanges Version: 2.45.0 Command: /Library/Frameworks/R.framework/Resources/bin/R CMD INSTALL IRanges StartedAt: 2025-11-14 15:07:49 -0500 (Fri, 14 Nov 2025) EndedAt: 2025-11-14 15:08:11 -0500 (Fri, 14 Nov 2025) EllapsedTime: 21.8 seconds RetCode: 0 Status: OK