Package: IRanges Version: 2.45.0 Command: /Library/Frameworks/R.framework/Resources/bin/R CMD build --keep-empty-dirs --no-resave-data IRanges StartedAt: 2025-11-14 16:44:23 -0500 (Fri, 14 Nov 2025) EndedAt: 2025-11-14 16:44:53 -0500 (Fri, 14 Nov 2025) EllapsedTime: 30.3 seconds RetCode: 0 Status: OK PackageFile: IRanges_2.45.0.tar.gz PackageFileSize: 479.1 KiB