Package: IRanges Version: 2.45.0 Command: rm -rf IRanges.buildbin-libdir && mkdir IRanges.buildbin-libdir && /Users/biocbuild/BBS/utils/build-universal.sh IRanges_2.45.0.tar.gz /Library/Frameworks/R.framework/Resources/bin/R IRanges.buildbin-libdir StartedAt: 2025-11-14 23:37:16 -0500 (Fri, 14 Nov 2025) EndedAt: 2025-11-14 23:37:45 -0500 (Fri, 14 Nov 2025) EllapsedTime: 29.6 seconds RetCode: 0 Status: OK PackageFile: IRanges_2.45.0.tgz PackageFileSize: 2.257 MiB