Package: IONiseR Version: 2.35.0 Command: /Library/Frameworks/R.framework/Resources/bin/R CMD INSTALL IONiseR StartedAt: 2025-11-16 15:26:35 -0500 (Sun, 16 Nov 2025) EndedAt: 2025-11-16 15:26:49 -0500 (Sun, 16 Nov 2025) EllapsedTime: 14.5 seconds RetCode: 0 Status: OK