Package: IONiseR Version: 2.35.0 Command: /Library/Frameworks/R.framework/Resources/bin/R CMD build --keep-empty-dirs --no-resave-data IONiseR StartedAt: 2025-11-16 16:44:50 -0500 (Sun, 16 Nov 2025) EndedAt: 2025-11-16 16:45:45 -0500 (Sun, 16 Nov 2025) EllapsedTime: 55.6 seconds RetCode: 0 Status: OK PackageFile: IONiseR_2.35.0.tar.gz PackageFileSize: 4.186 MiB