Package: IONiseR Version: 2.35.0 Command: rm -rf IONiseR.buildbin-libdir && mkdir IONiseR.buildbin-libdir && /Users/biocbuild/BBS/utils/build-universal.sh IONiseR_2.35.0.tar.gz /Library/Frameworks/R.framework/Resources/bin/R IONiseR.buildbin-libdir StartedAt: 2025-11-16 23:38:24 -0500 (Sun, 16 Nov 2025) EndedAt: 2025-11-16 23:38:43 -0500 (Sun, 16 Nov 2025) EllapsedTime: 18.3 seconds RetCode: 0 Status: OK PackageFile: IONiseR_2.35.0.tgz PackageFileSize: 4.279 MiB