Package: INTACT Version: 1.11.0 Command: /Library/Frameworks/R.framework/Resources/bin/R CMD build --keep-empty-dirs --no-resave-data INTACT StartedAt: 2025-11-12 16:31:53 -0500 (Wed, 12 Nov 2025) EndedAt: 2025-11-12 16:31:58 -0500 (Wed, 12 Nov 2025) EllapsedTime: 5.1 seconds RetCode: 0 Status: OK PackageFile: INTACT_1.11.0.tar.gz PackageFileSize: 2.487 MiB