Package: INTACT Version: 1.11.0 Maintainer: Jeffrey Okamoto MaintainerEmail: jokamoto at umich.edu git_url: https://git.bioconductor.org/packages/INTACT git_branch: devel git_last_commit: 1b812db git_last_commit_date: 2025-10-29 11:20:42 -0500 (Wed, 29 Oct 2025)