Package: INSPEcT Version: 1.41.0 Command: /Library/Frameworks/R.framework/Resources/bin/R CMD INSTALL INSPEcT StartedAt: 2025-11-12 15:41:21 -0500 (Wed, 12 Nov 2025) EndedAt: 2025-11-12 15:41:45 -0500 (Wed, 12 Nov 2025) EllapsedTime: 23.6 seconds RetCode: 0 Status: OK