Package: INSPEcT Version: 1.41.0 Command: /Library/Frameworks/R.framework/Resources/bin/R CMD build --keep-empty-dirs --no-resave-data INSPEcT StartedAt: 2025-11-12 16:31:53 -0500 (Wed, 12 Nov 2025) EndedAt: 2025-11-12 16:35:01 -0500 (Wed, 12 Nov 2025) EllapsedTime: 188.1 seconds RetCode: 0 Status: OK PackageFile: INSPEcT_1.41.0.tar.gz PackageFileSize: 58.56 MiB