Package: INSPEcT Version: 1.41.0 Command: rm -rf INSPEcT.buildbin-libdir && mkdir INSPEcT.buildbin-libdir && /Users/biocbuild/BBS/utils/build-universal.sh INSPEcT_1.41.0.tar.gz /Library/Frameworks/R.framework/Resources/bin/R INSPEcT.buildbin-libdir StartedAt: 2025-11-12 21:00:30 -0500 (Wed, 12 Nov 2025) EndedAt: 2025-11-12 21:01:03 -0500 (Wed, 12 Nov 2025) EllapsedTime: 32.7 seconds RetCode: 0 Status: OK PackageFile: INSPEcT_1.41.0.tgz PackageFileSize: 59.53 MiB