Package: INSPEcT Version: 1.41.0 Maintainer: Stefano de Pretis MaintainerEmail: ste.depo at gmail.com git_url: https://git.bioconductor.org/packages/INSPEcT git_branch: devel git_last_commit: 54a4fbd git_last_commit_date: 2025-10-29 10:26:37 -0500 (Wed, 29 Oct 2025)