Package: INPower Version: 1.47.0 Command: /home/biocbuild/bbs-3.23-bioc/R/bin/R CMD INSTALL INPower StartedAt: 2025-11-14 15:04:09 -0500 (Fri, 14 Nov 2025) EndedAt: 2025-11-14 15:04:23 -0500 (Fri, 14 Nov 2025) EllapsedTime: 14.0 seconds RetCode: 0 Status: OK