Package: INPower Version: 1.47.0 Command: /Library/Frameworks/R.framework/Resources/bin/R CMD INSTALL INPower StartedAt: 2025-11-14 15:02:33 -0500 (Fri, 14 Nov 2025) EndedAt: 2025-11-14 15:02:35 -0500 (Fri, 14 Nov 2025) EllapsedTime: 1.8 seconds RetCode: 0 Status: OK