Package: INPower Version: 1.47.0 Command: /Library/Frameworks/R.framework/Resources/bin/R CMD build --keep-empty-dirs --no-resave-data INPower StartedAt: 2025-11-14 16:43:29 -0500 (Fri, 14 Nov 2025) EndedAt: 2025-11-14 16:43:33 -0500 (Fri, 14 Nov 2025) EllapsedTime: 4.1 seconds RetCode: 0 Status: OK PackageFile: INPower_1.47.0.tar.gz PackageFileSize: 146.8 KiB