Package: INPower Version: 1.47.0 Maintainer: Bill Wheeler MaintainerEmail: wheelerb at imsweb.com git_url: https://git.bioconductor.org/packages/INPower git_branch: devel git_last_commit: 1897b5a git_last_commit_date: 2025-10-29 10:18:25 -0500 (Wed, 29 Oct 2025)