Package: IMPCdata Version: 1.47.0 Command: /home/biocbuild/bbs-3.23-bioc/R/bin/R CMD INSTALL IMPCdata StartedAt: 2025-11-16 15:04:33 -0500 (Sun, 16 Nov 2025) EndedAt: 2025-11-16 15:04:46 -0500 (Sun, 16 Nov 2025) EllapsedTime: 13.1 seconds RetCode: 0 Status: OK