Package: IMPCdata Version: 1.47.0 Command: /Library/Frameworks/R.framework/Resources/bin/R CMD INSTALL IMPCdata StartedAt: 2025-11-14 15:02:48 -0500 (Fri, 14 Nov 2025) EndedAt: 2025-11-14 15:02:55 -0500 (Fri, 14 Nov 2025) EllapsedTime: 6.8 seconds RetCode: 0 Status: OK