Package: IMPCdata Version: 1.47.0 Command: /Library/Frameworks/R.framework/Resources/bin/R CMD build --keep-empty-dirs --no-resave-data IMPCdata StartedAt: 2025-11-14 16:42:37 -0500 (Fri, 14 Nov 2025) EndedAt: 2025-11-14 16:43:31 -0500 (Fri, 14 Nov 2025) EllapsedTime: 53.5 seconds RetCode: 0 Status: OK PackageFile: IMPCdata_1.47.0.tar.gz PackageFileSize: 107.3 KiB