Package: IMPCdata Version: 1.47.0 Command: rm -rf IMPCdata.buildbin-libdir && mkdir IMPCdata.buildbin-libdir && /Users/biocbuild/BBS/utils/build-universal.sh IMPCdata_1.47.0.tar.gz /Library/Frameworks/R.framework/Resources/bin/R IMPCdata.buildbin-libdir StartedAt: 2025-11-14 23:37:02 -0500 (Fri, 14 Nov 2025) EndedAt: 2025-11-14 23:37:04 -0500 (Fri, 14 Nov 2025) EllapsedTime: 2.1 seconds RetCode: 0 Status: OK PackageFile: IMPCdata_1.47.0.tgz PackageFileSize: 159.1 KiB