Package: IMPCdata Version: 1.47.0 Maintainer: Jeremy Mason MaintainerEmail: jmason at ebi.ac.uk git_url: https://git.bioconductor.org/packages/IMPCdata git_branch: devel git_last_commit: f877a20 git_last_commit_date: 2025-10-29 10:22:32 -0500 (Wed, 29 Oct 2025)