Package: IMMAN Version: 1.31.0 Command: /Library/Frameworks/R.framework/Resources/bin/R CMD INSTALL IMMAN StartedAt: 2025-11-14 15:27:37 -0500 (Fri, 14 Nov 2025) EndedAt: 2025-11-14 15:27:42 -0500 (Fri, 14 Nov 2025) EllapsedTime: 5.2 seconds RetCode: 0 Status: OK