Package: IMMAN Version: 1.31.0 Command: rm -rf IMMAN.buildbin-libdir && mkdir IMMAN.buildbin-libdir && /Users/biocbuild/BBS/utils/build-universal.sh IMMAN_1.31.0.tar.gz /Library/Frameworks/R.framework/Resources/bin/R IMMAN.buildbin-libdir StartedAt: 2025-11-14 23:36:56 -0500 (Fri, 14 Nov 2025) EndedAt: 2025-11-14 23:37:03 -0500 (Fri, 14 Nov 2025) EllapsedTime: 7.2 seconds RetCode: 0 Status: OK PackageFile: IMMAN_1.31.0.tgz PackageFileSize: 79.53 KiB