Package: IMAS Version: 1.35.0 Command: /home/biocbuild/bbs-3.23-bioc/R/bin/R CMD build --keep-empty-dirs --no-resave-data IMAS StartedAt: 2025-11-14 18:10:09 -0500 (Fri, 14 Nov 2025) EndedAt: 2025-11-14 18:11:49 -0500 (Fri, 14 Nov 2025) EllapsedTime: 100.1 seconds RetCode: 1 Status: ERROR PackageFile: None PackageFileSize: NA