Package: IMAS Version: 1.35.0 Maintainer: Seonggyun Han MaintainerEmail: hangost at ssu.ac.kr git_url: https://git.bioconductor.org/packages/IMAS git_branch: devel git_last_commit: 8fb5523 git_last_commit_date: 2025-10-29 10:38:10 -0500 (Wed, 29 Oct 2025)