Package: IHW Version: 1.39.0 Command: /Library/Frameworks/R.framework/Resources/bin/R CMD INSTALL IHW StartedAt: 2025-11-14 15:07:09 -0500 (Fri, 14 Nov 2025) EndedAt: 2025-11-14 15:07:11 -0500 (Fri, 14 Nov 2025) EllapsedTime: 1.7 seconds RetCode: 0 Status: OK