Package: IHW Version: 1.39.0 Command: /Library/Frameworks/R.framework/Resources/bin/R CMD build --keep-empty-dirs --no-resave-data IHW StartedAt: 2025-11-14 16:41:35 -0500 (Fri, 14 Nov 2025) EndedAt: 2025-11-14 16:42:36 -0500 (Fri, 14 Nov 2025) EllapsedTime: 61.6 seconds RetCode: 0 Status: OK PackageFile: IHW_1.39.0.tar.gz PackageFileSize: 4.725 MiB