Package: IHW Version: 1.39.0 Command: rm -rf IHW.buildbin-libdir && mkdir IHW.buildbin-libdir && /Users/biocbuild/BBS/utils/build-universal.sh IHW_1.39.0.tar.gz /Library/Frameworks/R.framework/Resources/bin/R IHW.buildbin-libdir StartedAt: 2025-11-13 23:41:48 -0500 (Thu, 13 Nov 2025) EndedAt: 2025-11-13 23:41:52 -0500 (Thu, 13 Nov 2025) EllapsedTime: 4.1 seconds RetCode: 0 Status: OK PackageFile: IHW_1.39.0.tgz PackageFileSize: 4.927 MiB