Package: HybridMTest Version: 1.55.0 Command: /Library/Frameworks/R.framework/Resources/bin/R CMD INSTALL HybridMTest StartedAt: 2025-11-14 15:08:03 -0500 (Fri, 14 Nov 2025) EndedAt: 2025-11-14 15:08:06 -0500 (Fri, 14 Nov 2025) EllapsedTime: 3.0 seconds RetCode: 0 Status: OK