Package: HybridMTest Version: 1.55.0 Command: /Library/Frameworks/R.framework/Resources/bin/R CMD build --keep-empty-dirs --no-resave-data HybridMTest StartedAt: 2025-11-14 16:40:20 -0500 (Fri, 14 Nov 2025) EndedAt: 2025-11-14 16:40:26 -0500 (Fri, 14 Nov 2025) EllapsedTime: 6.1 seconds RetCode: 0 Status: OK PackageFile: HybridMTest_1.55.0.tar.gz PackageFileSize: 171.8 KiB