Package: HybridMTest Version: 1.55.0 Command: rm -rf HybridMTest.buildbin-libdir && mkdir HybridMTest.buildbin-libdir && /Users/biocbuild/BBS/utils/build-universal.sh HybridMTest_1.55.0.tar.gz /Library/Frameworks/R.framework/Resources/bin/R HybridMTest.buildbin-libdir StartedAt: 2025-11-14 23:36:36 -0500 (Fri, 14 Nov 2025) EndedAt: 2025-11-14 23:36:41 -0500 (Fri, 14 Nov 2025) EllapsedTime: 4.1 seconds RetCode: 0 Status: OK PackageFile: HybridMTest_1.55.0.tgz PackageFileSize: 236 KiB