Package: HybridMTest Version: 1.55.0 Maintainer: Demba Fofana MaintainerEmail: demba.fofana at stjude.org git_url: https://git.bioconductor.org/packages/HybridMTest git_branch: devel git_last_commit: 5c8ba0e git_last_commit_date: 2025-10-29 10:10:34 -0500 (Wed, 29 Oct 2025)