Package: HybridExpress Version: 1.7.0 Command: /Library/Frameworks/R.framework/Resources/bin/R CMD INSTALL HybridExpress StartedAt: 2025-11-23 15:14:10 -0500 (Sun, 23 Nov 2025) EndedAt: 2025-11-23 15:14:21 -0500 (Sun, 23 Nov 2025) EllapsedTime: 10.9 seconds RetCode: 0 Status: OK