Package: HybridExpress Version: 1.7.0 Command: rm -rf HybridExpress.buildbin-libdir && mkdir HybridExpress.buildbin-libdir && /Users/biocbuild/BBS/utils/build-universal.sh HybridExpress_1.7.0.tar.gz /Library/Frameworks/R.framework/Resources/bin/R HybridExpress.buildbin-libdir StartedAt: 2025-11-23 23:39:31 -0500 (Sun, 23 Nov 2025) EndedAt: 2025-11-23 23:39:44 -0500 (Sun, 23 Nov 2025) EllapsedTime: 13.4 seconds RetCode: 0 Status: OK PackageFile: HybridExpress_1.7.0.tgz PackageFileSize: 3.509 MiB