Package: HubPub Version: 1.19.0 Command: /Library/Frameworks/R.framework/Resources/bin/R CMD INSTALL HubPub StartedAt: 2025-11-14 15:07:06 -0500 (Fri, 14 Nov 2025) EndedAt: 2025-11-14 15:07:08 -0500 (Fri, 14 Nov 2025) EllapsedTime: 1.6 seconds RetCode: 0 Status: OK