Package: HubPub Version: 1.19.0 Command: /Library/Frameworks/R.framework/Resources/bin/R CMD build --keep-empty-dirs --no-resave-data HubPub StartedAt: 2025-11-14 16:40:05 -0500 (Fri, 14 Nov 2025) EndedAt: 2025-11-14 16:40:22 -0500 (Fri, 14 Nov 2025) EllapsedTime: 17.2 seconds RetCode: 0 Status: OK PackageFile: HubPub_1.19.0.tar.gz PackageFileSize: 549.7 KiB