Package: HubPub Version: 1.19.0 Command: rm -rf HubPub.buildbin-libdir && mkdir HubPub.buildbin-libdir && /Users/biocbuild/BBS/utils/build-universal.sh HubPub_1.19.0.tar.gz /Library/Frameworks/R.framework/Resources/bin/R HubPub.buildbin-libdir StartedAt: 2025-11-14 23:36:33 -0500 (Fri, 14 Nov 2025) EndedAt: 2025-11-14 23:36:36 -0500 (Fri, 14 Nov 2025) EllapsedTime: 3.1 seconds RetCode: 0 Status: OK PackageFile: HubPub_1.19.0.tgz PackageFileSize: 558.1 KiB