Package: HilbertVisGUI Version: 1.69.0 Command: /home/biocbuild/bbs-3.23-bioc/R/bin/R CMD INSTALL HilbertVisGUI StartedAt: 2025-11-13 15:03:16 -0500 (Thu, 13 Nov 2025) EndedAt: 2025-11-13 15:03:49 -0500 (Thu, 13 Nov 2025) EllapsedTime: 32.7 seconds RetCode: 0 Status: OK