Package: HilbertVis Version: 1.69.0 Command: /home/biocbuild/bbs-3.23-bioc/R/bin/R CMD INSTALL HilbertVis StartedAt: 2025-11-14 15:03:48 -0500 (Fri, 14 Nov 2025) EndedAt: 2025-11-14 15:04:07 -0500 (Fri, 14 Nov 2025) EllapsedTime: 18.9 seconds RetCode: 0 Status: OK