Package: HilbertVis Version: 1.69.0 Command: /Library/Frameworks/R.framework/Resources/bin/R CMD INSTALL HilbertVis StartedAt: 2025-11-14 15:02:22 -0500 (Fri, 14 Nov 2025) EndedAt: 2025-11-14 15:02:32 -0500 (Fri, 14 Nov 2025) EllapsedTime: 10.0 seconds RetCode: 0 Status: OK