Package: HilbertVis Version: 1.69.0 Command: /Library/Frameworks/R.framework/Resources/bin/R CMD build --keep-empty-dirs --no-resave-data HilbertVis StartedAt: 2025-11-14 16:39:13 -0500 (Fri, 14 Nov 2025) EndedAt: 2025-11-14 16:39:18 -0500 (Fri, 14 Nov 2025) EllapsedTime: 5.1 seconds RetCode: 0 Status: OK PackageFile: HilbertVis_1.69.0.tar.gz PackageFileSize: 1.206 MiB