Package: HilbertVis Version: 1.69.0 Command: rm -rf HilbertVis.buildbin-libdir && mkdir HilbertVis.buildbin-libdir && /Users/biocbuild/BBS/utils/build-universal.sh HilbertVis_1.69.0.tar.gz /Library/Frameworks/R.framework/Resources/bin/R HilbertVis.buildbin-libdir StartedAt: 2025-11-14 23:36:23 -0500 (Fri, 14 Nov 2025) EndedAt: 2025-11-14 23:36:26 -0500 (Fri, 14 Nov 2025) EllapsedTime: 3.1 seconds RetCode: 0 Status: OK PackageFile: HilbertVis_1.69.0.tgz PackageFileSize: 1.118 MiB