Package: HilbertCurve Version: 2.5.0 Command: /Library/Frameworks/R.framework/Resources/bin/R CMD INSTALL HilbertCurve StartedAt: 2025-11-14 15:11:32 -0500 (Fri, 14 Nov 2025) EndedAt: 2025-11-14 15:11:39 -0500 (Fri, 14 Nov 2025) EllapsedTime: 6.7 seconds RetCode: 0 Status: OK