Package: HilbertCurve Version: 2.5.0 Command: /Library/Frameworks/R.framework/Resources/bin/R CMD build --keep-empty-dirs --no-resave-data HilbertCurve StartedAt: 2025-11-14 16:39:04 -0500 (Fri, 14 Nov 2025) EndedAt: 2025-11-14 16:39:13 -0500 (Fri, 14 Nov 2025) EllapsedTime: 9.1 seconds RetCode: 0 Status: OK PackageFile: HilbertCurve_2.5.0.tar.gz PackageFileSize: 407.7 KiB