Package: HicAggR Version: 1.7.0 Command: /home/biocbuild/bbs-3.23-bioc/R/bin/R CMD INSTALL HicAggR StartedAt: 2025-11-14 15:30:15 -0500 (Fri, 14 Nov 2025) EndedAt: 2025-11-14 15:30:44 -0500 (Fri, 14 Nov 2025) EllapsedTime: 29.0 seconds RetCode: 0 Status: OK